BEGIN:VCALENDAR
VERSION:2.0
METHOD:PUBLISH
BEGIN:VEVENT
DTSTART:20190302T125000
DTEND:20190302T131000
LOCATION:611/12 Nuvolari Place Wentworth Point, NSW 2127
TRANSP: OPAQUE
SEQUENCE:0
UID:
DTSTAMP:20190228T221648Z
SUMMARY:Open Inspections - Bright and Spacious | Dual Aspect | Modern Living
DESCRIPTION:Spacious 2 bedroom apartment, 92sqm internal size, 5 year old building, N/E aspect, spacious living and dining area, gourmet kitchen with island bench, cross ventilation, great privacy. 1 car space and storage cage.
PRIORITY:1
CLASS:PUBLIC
BEGIN:VALARM
TRIGGER:-PT10080M
ACTION:DISPLAY
DESCRIPTION:Reminder
END:VALARM
END:VEVENT
END:VCALENDAR
