BEGIN:VCALENDAR
VERSION:2.0
METHOD:PUBLISH
BEGIN:VEVENT
DTSTART:20190302T124000
DTEND:20190302T130000
LOCATION:403/17 Monza Boulevard Wentworth Point, NSW 2127
TRANSP: OPAQUE
SEQUENCE:0
UID:
DTSTAMP:20190228T221301Z
SUMMARY:Open Inspections - Huge Balcony | Private Garden Outlook | Spacious Internal Space
DESCRIPTION:You&#x2019;ll love returning home to this spacious one bedroom, one bathroom apartment. Spend afternoons and evenings entertaining on your expansive balcony, overlooking the complex garden. Enjoy thoughtful additions such as the skylight in your living area, split system air-conditioning and large, modern kitchen.

You&#x2019;ll fall in love with these incredible features:

&#x2022;	Large internal size &#x2013; 67m&#xB2;
&#x2022;	39m&#xB2; entertaining balcony
&#x2022;	5.5 years old
&#x2022;	Located in low-density block &#x2013; only 4 levels
&#x2022;	1 car space + basement storage cage
&#x2022;	Resident pool & gym facilities

When you&#x2019;re ready to tear yourself away from your gorgeous new home, take advantage of easy access to local bus stops, shops and Pulse Club facilities, complete with gym, 2 tennis courts, indoor heated swimming pool and oasis outdoor swimming pool. Create your new lifestyle today, contact John Ye on 0415 133 133 or Cristian Malgioglio on 0433 111 229 for any questions or to book in a time to inspect.
PRIORITY:1
CLASS:PUBLIC
BEGIN:VALARM
TRIGGER:-PT10080M
ACTION:DISPLAY
DESCRIPTION:Reminder
END:VALARM
END:VEVENT
END:VCALENDAR
