BEGIN:VCALENDAR
VERSION:2.0
METHOD:PUBLISH
BEGIN:VEVENT
DTSTART:20190302T114000
DTEND:20190302T120000
LOCATION:1312/2 Waterways St Wentworth Point, Nsw 2127
TRANSP: OPAQUE
SEQUENCE:0
UID:
DTSTAMP:20190228T221243Z
SUMMARY:Open Inspections - Water & Parkland Views | Low Strata
DESCRIPTION:Enjoy your own little piece of luxury with this gorgeous 2 bedroom, 1-bathroom apartment. Filled with soothing natural light and overlooking nearby waterways and parkland, you&#x2019;ll relish afternoons relaxing in your open living and dining or reclining in the rooftop garden. Entertaining is made easy in your large modern kitchen, complete with island bench or retreat to your separate study room for those must-do tasks.
You&#x2019;ll fall in love with these incredible features:
&#x2022;	North-West aspect
&#x2022;	Excellent privacy 
&#x2022;	Low strata - $997 per quarter
&#x2022;	Split system air-conditioning throughout
&#x2022;	Security building
&#x2022;	Pet friendly building
&#x2022;	1 secure car space + storage cage

Enviably located within walking distance of Marina Square Shopping Centre, Ferry Wharf, Bennelong Footbridge, local Bus and Bay-Link Shuttle stop, as well as local caf&#xE9;s and restaurants, your toughest decision will be where to explore next! Create your new lifestyle today, contact John Ye on 0415 133 133 or Cristian Malgioglio on 0433 111 229 for any questions or to book in a time to inspect.
PRIORITY:1
CLASS:PUBLIC
BEGIN:VALARM
TRIGGER:-PT10080M
ACTION:DISPLAY
DESCRIPTION:Reminder
END:VALARM
END:VEVENT
END:VCALENDAR
