BEGIN:VCALENDAR
VERSION:2.0
METHOD:PUBLISH
BEGIN:VEVENT
DTSTART:20190302T110000
DTEND:20190302T112000
LOCATION:842/2 The Crescent Wentworth Point, NSW 2127
TRANSP: OPAQUE
SEQUENCE:0
UID:
DTSTAMP:20190228T221235Z
SUMMARY:Open Inspections - Water Views | Split Level | Three Balconies
DESCRIPTION:This 2 bedroom, 2 bathroom apartment perfectly combines luxury and style. Relax on one of your three balconies, taking in either water or soothing garden views or indulge by escaping to your own private retreat with split-level design allowing large master bedroom, with private balcony on its own level and recently renovated bathroom upstairs. Separate living and dining areas provide extra space while ducted air-conditioning throughout and modern kitchen with ducted range hood ensure the practicalities are covered.

You&#x2019;ll fall in love with these incredible features:

- Amazing water views
- Great natural light 
- Tiled living area
- Great privacy
- 1 basement car space + storage cage
- Resident-only outdoor swimming pool
 
Perfectly situated with easy access to waterside, local bus stops, shops and caf&#xE9;s, you&#x2019;ll relish exploring your new area. The added bonus of free Pulse Club Membership allows access to facilities including gym, 2 tennis courts, indoor heated swimming pool and Oasis outdoor swimming pool. Create your new lifestyle today, contact John Ye on 0415 133 133 for any questions or to book in a time to inspect.
PRIORITY:1
CLASS:PUBLIC
BEGIN:VALARM
TRIGGER:-PT10080M
ACTION:DISPLAY
DESCRIPTION:Reminder
END:VALARM
END:VEVENT
END:VCALENDAR
