BEGIN:VCALENDAR
VERSION:2.0
METHOD:PUBLISH
BEGIN:VEVENT
DTSTART:20190302T103000
DTEND:20190302T105000
LOCATION:310/13 Verona Drive Wentworth Point, NSW 2127
TRANSP: OPAQUE
SEQUENCE:0
UID:
DTSTAMP:20190228T221320Z
SUMMARY:Open Inspections - 2 Years Old | Modern Building | Spacious & Stylish
DESCRIPTION:This two-bedroom, two-bathroom apartment oozes modern style and charm. Spacious living and dining areas, over-sized master bedroom, open balcony and study nook provide ample retreats in which to relax and unwind. Inclusions like gourmet kitchen and island bench, separate bath and shower and generous wardrobe space in the master bedroom add a little touch of luxury.

You&#x2019;ll fall in love with these incredible features:

&#x2022;	North-West aspect
&#x2022;	Split system air-conditioning in living room
&#x2022;	Study nook
&#x2022;	Walk in laundry with additional storage
&#x2022;	Security building
&#x2022;	Low Strata Levy = $946 per quarter
&#x2022;	1 car space + basement storage cage
&#x2022;	Resident indoor swimming pool & gym facilities

Weekends and evenings can be spent exploring your gorgeous new area. Take advantage of the short walk to Marina Square Shopping Centre, Foot Bridge and local Wentworth Point Public School. To adventure further afield, ferry, bus stop and Bay-Link Shuttle are only walking distance away. Create your new lifestyle today, contact John Ye on 0415 133 133 or Cristian Malgioglio on 0433 111 229 for any questions or to book in a time to inspect.
PRIORITY:1
CLASS:PUBLIC
BEGIN:VALARM
TRIGGER:-PT10080M
ACTION:DISPLAY
DESCRIPTION:Reminder
END:VALARM
END:VEVENT
END:VCALENDAR
