BEGIN:VCALENDAR
VERSION:2.0
METHOD:PUBLISH
BEGIN:VEVENT
DTSTART:20190302T140000
DTEND:20190302T142000
LOCATION:201/6 River Road West Parramatta, NSW 2150
TRANSP: OPAQUE
SEQUENCE:0
UID:
DTSTAMP:20190228T221311Z
SUMMARY:Open Inspections - Excellent Value | Low Strata | Convenient Location
DESCRIPTION:This two bedroom, two bathroom apartment provides excellent value for money, making it perfect for the first home buyer or extending family. With spacious bedrooms, a good sized balcony and large living and dining area, you&#x2019;ll have ample room whether you prefer relaxing or entertaining. The combination of tiled living and hallway with carpeted bedrooms, as well as ducted air-conditioning throughout ensures year-round comfort.

You&#x2019;ll fall in love with these incredible features:

&#x2022;	Dual entry from balcony or front door 
&#x2022;	Lift access
&#x2022;	Modern fittings and fixtures
&#x2022;	Large kitchen and island bench
&#x2022;	On-site building manager &#x2013; on the same level
&#x2022;	Secure basement car space
&#x2022;	Walk-in laundry

Within close proximity to bus stops, shops and schools and the ease of local Train Station only 1km away, you will feel like you&#x2019;re right in the heart of the action, while the peace and quiet will have you believing you&#x2019;re a million miles away.
PRIORITY:1
CLASS:PUBLIC
BEGIN:VALARM
TRIGGER:-PT10080M
ACTION:DISPLAY
DESCRIPTION:Reminder
END:VALARM
END:VEVENT
END:VCALENDAR
